BEGIN:VCALENDAR
VERSION:2.0
PRODID:-//Nottingham Welsh Society - ECPv6.0.6.2//NONSGML v1.0//EN
CALSCALE:GREGORIAN
METHOD:PUBLISH
X-WR-CALNAME:Nottingham Welsh Society
X-ORIGINAL-URL:https://nottinghamwelshsociety.org.uk
X-WR-CALDESC:Events for Nottingham Welsh Society
REFRESH-INTERVAL;VALUE=DURATION:PT1H
X-Robots-Tag:noindex
X-PUBLISHED-TTL:PT1H
BEGIN:VTIMEZONE
TZID:Europe/London
BEGIN:DAYLIGHT
TZOFFSETFROM:+0000
TZOFFSETTO:+0100
TZNAME:BST
DTSTART:20190331T010000
END:DAYLIGHT
BEGIN:STANDARD
TZOFFSETFROM:+0100
TZOFFSETTO:+0000
TZNAME:GMT
DTSTART:20191027T010000
END:STANDARD
END:VTIMEZONE
BEGIN:VEVENT
DTSTART;TZID=Europe/London:20191211T191500
DTEND;TZID=Europe/London:20191211T213000
DTSTAMP:20260425T174630
CREATED:20190608T172454Z
LAST-MODIFIED:20200121T150201Z
UID:986-1576091700-1576099800@nottinghamwelshsociety.org.uk
SUMMARY:Hosted by Stephan Green.
DESCRIPTION:
URL:https://nottinghamwelshsociety.org.uk/event/christmas-party-parti-nadolig-hosted-by-stephan-green/
LOCATION:St. Andrews with Castle Gate United Reformed Church Hall Goldsmith St\, Nottingham NG1 5JT\, Goldsmith Street\, Nottingham\, NG1 5JT
CATEGORIES:Cheese and Wine Evening
END:VEVENT
END:VCALENDAR