BEGIN:VCALENDAR
VERSION:2.0
PRODID:-//Nottingham Welsh Society - ECPv6.0.6.2//NONSGML v1.0//EN
CALSCALE:GREGORIAN
METHOD:PUBLISH
X-WR-CALNAME:Nottingham Welsh Society
X-ORIGINAL-URL:https://nottinghamwelshsociety.org.uk
X-WR-CALDESC:Events for Nottingham Welsh Society
REFRESH-INTERVAL;VALUE=DURATION:PT1H
X-Robots-Tag:noindex
X-PUBLISHED-TTL:PT1H
BEGIN:VTIMEZONE
TZID:Europe/London
BEGIN:DAYLIGHT
TZOFFSETFROM:+0000
TZOFFSETTO:+0100
TZNAME:BST
DTSTART:20200329T010000
END:DAYLIGHT
BEGIN:STANDARD
TZOFFSETFROM:+0100
TZOFFSETTO:+0000
TZNAME:GMT
DTSTART:20201025T010000
END:STANDARD
END:VTIMEZONE
BEGIN:VEVENT
DTSTART;VALUE=DATE:20200125
DTEND;VALUE=DATE:20200126
DTSTAMP:20260425T162256
CREATED:20200122T123421Z
LAST-MODIFIED:20200122T130500Z
UID:1361-1579910400-1579996799@nottinghamwelshsociety.org.uk
SUMMARY:Santes Dwynwen Day (Welsh Valentine's Day) United Kingdom
DESCRIPTION:
URL:https://nottinghamwelshsociety.org.uk/event/santes-dwynwen-day-welsh-valentines-day-united-kingdom/
CATEGORIES:Cheese and Wine Evening
END:VEVENT
END:VCALENDAR