BEGIN:VCALENDAR
VERSION:2.0
PRODID:-//Nottingham Welsh Society - ECPv6.0.6.2//NONSGML v1.0//EN
CALSCALE:GREGORIAN
METHOD:PUBLISH
X-ORIGINAL-URL:https://nottinghamwelshsociety.org.uk
X-WR-CALDESC:Events for Nottingham Welsh Society
REFRESH-INTERVAL;VALUE=DURATION:PT1H
X-Robots-Tag:noindex
X-PUBLISHED-TTL:PT1H
BEGIN:VTIMEZONE
TZID:Europe/London
BEGIN:DAYLIGHT
TZOFFSETFROM:+0000
TZOFFSETTO:+0100
TZNAME:BST
DTSTART:20200329T010000
END:DAYLIGHT
BEGIN:STANDARD
TZOFFSETFROM:+0100
TZOFFSETTO:+0000
TZNAME:GMT
DTSTART:20201025T010000
END:STANDARD
END:VTIMEZONE
BEGIN:VEVENT
DTSTART;TZID=Europe/London:20200212T191500
DTEND;TZID=Europe/London:20200212T213000
DTSTAMP:20260425T150526
CREATED:20190608T173150Z
LAST-MODIFIED:20200122T123009Z
UID:992-1581534900-1581543000@nottinghamwelshsociety.org.uk
SUMMARY:Georgina Denison National Garden Scheme Nottinghamshire Coordinator
DESCRIPTION:
URL:https://nottinghamwelshsociety.org.uk/event/the-national-garden-scheme-for-england-wales-georgina-denison-nottinghamshire-coordinator/
LOCATION:St. Andrews with Castle Gate United Reformed Church Hall Goldsmith St\, Nottingham NG1 5JT\, Goldsmith Street\, Nottingham\, NG1 5JT
CATEGORIES:Cheese and Wine Evening
END:VEVENT
END:VCALENDAR